BEGIN:VCALENDAR
VERSION:2.0
PRODID:-//Educate Kansas - ECPv6.15.20//NONSGML v1.0//EN
CALSCALE:GREGORIAN
METHOD:PUBLISH
X-ORIGINAL-URL:https://educatekansas.org
X-WR-CALDESC:Events for Educate Kansas
REFRESH-INTERVAL;VALUE=DURATION:PT1H
X-Robots-Tag:noindex
X-PUBLISHED-TTL:PT1H
BEGIN:VTIMEZONE
TZID:America/Chicago
BEGIN:DAYLIGHT
TZOFFSETFROM:-0600
TZOFFSETTO:-0500
TZNAME:CDT
DTSTART:20250309T080000
END:DAYLIGHT
BEGIN:STANDARD
TZOFFSETFROM:-0500
TZOFFSETTO:-0600
TZNAME:CST
DTSTART:20251102T070000
END:STANDARD
BEGIN:DAYLIGHT
TZOFFSETFROM:-0600
TZOFFSETTO:-0500
TZNAME:CDT
DTSTART:20260308T080000
END:DAYLIGHT
BEGIN:STANDARD
TZOFFSETFROM:-0500
TZOFFSETTO:-0600
TZNAME:CST
DTSTART:20261101T070000
END:STANDARD
BEGIN:DAYLIGHT
TZOFFSETFROM:-0600
TZOFFSETTO:-0500
TZNAME:CDT
DTSTART:20270314T080000
END:DAYLIGHT
BEGIN:STANDARD
TZOFFSETFROM:-0500
TZOFFSETTO:-0600
TZNAME:CST
DTSTART:20271107T070000
END:STANDARD
END:VTIMEZONE
BEGIN:VEVENT
DTSTART;TZID=America/Chicago:20261019T130000
DTEND;TZID=America/Chicago:20261021T143000
DTSTAMP:20260419T095321
CREATED:20260407T170601Z
LAST-MODIFIED:20260407T170724Z
UID:2437-1792414800-1792593000@educatekansas.org
SUMMARY:AAEE (American Association for Employment in Education) Annual Conference & Education Fair
DESCRIPTION:AAEE 2026 Flyer \nThe 2026 AAEE National Conference hosted by the American Association for Employment in Education (AAEE)\, taking place October 19–21\, 2026 in Kansas City\, Missouri. This three-day national event features high-impact breakout sessions and the AAEE National Education Career Fair—bringing together education HR leaders and recruitment professionals from across the country. \nDesigned specifically for school human resources teams\, district leaders\, and educator preparation partners\, the conference focuses on practical\, data-driven strategies to address today’s most pressing workforce challenges. Sessions explore innovative approaches to recruitment\, retention\, employee engagement\, diversity initiatives\, legal updates\, and emerging educator supply-and-demand trends. \nAttending AAEE 2026 can directly support your district’s goals by helping you: \n\nStrengthen recruitment pipelines\n• Improve retention and employee engagement efforts\n• Enhance overall talent management strategies\n• Implement proven\, research-based practices\n• Stay ahead of national HR trends and policy updates\n\nConference highlights include: \n\n Networking with HR professionals and district leaders nationwide\n• Structured\, vetted sessions aligned with current national trends\n• Data-informed strategies you can implement immediately\n• Access to the AAEE National Education Career Fair\n\nAAEE consistently delivers actionable insights and meaningful connections that translate into real impact for our teams and the educators we serve. \n AAEE would love to see you in Kansas City this October.  \nContact Scott Soldat-Valenzuela for more information and questions: execdir@aaee.org
URL:https://educatekansas.org/event/aaee-american-association-for-employment-in-education-annual-conference-education-fair/
LOCATION:Marriott at Country Club Plaza – Kansas City\, MO\, 4445 Main Street\, Kansas City\, MO
END:VEVENT
END:VCALENDAR